BEGIN:VCALENDAR
VERSION:2.0
PRODID:-//Ecole de Funétique - ECPv6.15.14//NONSGML v1.0//EN
CALSCALE:GREGORIAN
METHOD:PUBLISH
X-WR-CALNAME:Ecole de Funétique
X-ORIGINAL-URL:https://ecole-funetique.fr
X-WR-CALDESC:Évènements pour Ecole de Funétique
REFRESH-INTERVAL;VALUE=DURATION:PT1H
X-Robots-Tag:noindex
X-PUBLISHED-TTL:PT1H
BEGIN:VTIMEZONE
TZID:Europe/Paris
BEGIN:DAYLIGHT
TZOFFSETFROM:+0100
TZOFFSETTO:+0200
TZNAME:CEST
DTSTART:20230326T010000
END:DAYLIGHT
BEGIN:STANDARD
TZOFFSETFROM:+0200
TZOFFSETTO:+0100
TZNAME:CET
DTSTART:20231029T010000
END:STANDARD
BEGIN:DAYLIGHT
TZOFFSETFROM:+0100
TZOFFSETTO:+0200
TZNAME:CEST
DTSTART:20240331T010000
END:DAYLIGHT
BEGIN:STANDARD
TZOFFSETFROM:+0200
TZOFFSETTO:+0100
TZNAME:CET
DTSTART:20241027T010000
END:STANDARD
BEGIN:DAYLIGHT
TZOFFSETFROM:+0100
TZOFFSETTO:+0200
TZNAME:CEST
DTSTART:20250330T010000
END:DAYLIGHT
BEGIN:STANDARD
TZOFFSETFROM:+0200
TZOFFSETTO:+0100
TZNAME:CET
DTSTART:20251026T010000
END:STANDARD
END:VTIMEZONE
BEGIN:VEVENT
DTSTART;VALUE=DATE:20240917
DTEND;VALUE=DATE:20240921
DTSTAMP:20260425T232009
CREATED:20240201T125725Z
LAST-MODIFIED:20240201T125725Z
UID:5522-1726531200-1726876799@ecole-funetique.fr
SUMMARY:Technico commercial en marbrerie funéraire - Reims - septembre 2024
DESCRIPTION:La formation technico commercial en marbrerie funéraire se déroulera à Reims (51) du 17 au 20 septembre 2024. \nDurée totale de la formation : 24 heures
URL:https://ecole-funetique.fr/calendrierdesformations/technico-commercial-en-marbrerie-funeraire-reims-septembre-2024/
CATEGORIES:Technico commercial marbrerie funéraire
ORGANIZER;CN="%C3%89cole de Fun%C3%A9tique":MAILTO:contact@ecole-funetique.fr
END:VEVENT
END:VCALENDAR