BEGIN:VCALENDAR
VERSION:2.0
PRODID:-//Ecole de Funétique - ECPv6.15.14//NONSGML v1.0//EN
CALSCALE:GREGORIAN
METHOD:PUBLISH
X-WR-CALNAME:Ecole de Funétique
X-ORIGINAL-URL:https://ecole-funetique.fr
X-WR-CALDESC:Évènements pour Ecole de Funétique
REFRESH-INTERVAL;VALUE=DURATION:PT1H
X-Robots-Tag:noindex
X-PUBLISHED-TTL:PT1H
BEGIN:VTIMEZONE
TZID:Europe/Paris
BEGIN:DAYLIGHT
TZOFFSETFROM:+0100
TZOFFSETTO:+0200
TZNAME:CEST
DTSTART:20240331T010000
END:DAYLIGHT
BEGIN:STANDARD
TZOFFSETFROM:+0200
TZOFFSETTO:+0100
TZNAME:CET
DTSTART:20241027T010000
END:STANDARD
BEGIN:DAYLIGHT
TZOFFSETFROM:+0100
TZOFFSETTO:+0200
TZNAME:CEST
DTSTART:20250330T010000
END:DAYLIGHT
BEGIN:STANDARD
TZOFFSETFROM:+0200
TZOFFSETTO:+0100
TZNAME:CET
DTSTART:20251026T010000
END:STANDARD
BEGIN:DAYLIGHT
TZOFFSETFROM:+0100
TZOFFSETTO:+0200
TZNAME:CEST
DTSTART:20260329T010000
END:DAYLIGHT
BEGIN:STANDARD
TZOFFSETFROM:+0200
TZOFFSETTO:+0100
TZNAME:CET
DTSTART:20261025T010000
END:STANDARD
END:VTIMEZONE
BEGIN:VEVENT
DTSTART;VALUE=DATE:20251014
DTEND;VALUE=DATE:20251018
DTSTAMP:20260426T044745
CREATED:20241031T085603Z
LAST-MODIFIED:20241031T085603Z
UID:6042-1760400000-1760745599@ecole-funetique.fr
SUMMARY:Technico commercial en marbrerie funéraire - Royan - octobre 2025
DESCRIPTION:La formation technico commercial en marbrerie funéraire se déroulera à Royan (17) du 14 au 17 octobre 2025. \nDurée totale de la formation : 24 heures
URL:https://ecole-funetique.fr/calendrierdesformations/technico-commercial-en-marbrerie-funeraire-royan-octobre-2025/
LOCATION:Royan (17) Accessible PSH/PMR
CATEGORIES:Technico commercial marbrerie funéraire
ORGANIZER;CN="%C3%89cole de Fun%C3%A9tique":MAILTO:contact@ecole-funetique.fr
END:VEVENT
END:VCALENDAR